BEGIN:VCALENDAR
VERSION:2.0
PRODID:icalendar-ruby
CALSCALE:GREGORIAN
METHOD:PUBLISH
BEGIN:VEVENT
DTSTAMP:20260425T004259Z
UID:32-813686@breakthroughchurch.life
DTSTART:20261129T190000Z
DTEND:20261129T200000Z
CLASS:PUBLIC
CREATED:20260423T151719
DESCRIPTION:
LAST-MODIFIED:20260423T151719
LOCATION:
SUMMARY:Youth Sunday
URL;VALUE=URI:https://www.breakthroughchurch.life/events/youth-sunday/2026-
 11-29
END:VEVENT
END:VCALENDAR
