BEGIN:VCALENDAR
VERSION:2.0
PRODID:icalendar-ruby
CALSCALE:GREGORIAN
METHOD:PUBLISH
BEGIN:VEVENT
DTSTAMP:20260424T153648Z
UID:32-813680@breakthroughchurch.life
DTSTART:20260531T180000Z
DTEND:20260531T190000Z
CLASS:PUBLIC
CREATED:20260423T151719
DESCRIPTION:
LAST-MODIFIED:20260423T151719
LOCATION:
SUMMARY:Youth Sunday
URL;VALUE=URI:https://www.breakthroughchurch.life/events/youth-sunday/2026-
 05-31
END:VEVENT
END:VCALENDAR
