BEGIN:VCALENDAR
VERSION:2.0
PRODID:icalendar-ruby
CALSCALE:GREGORIAN
METHOD:PUBLISH
BEGIN:VEVENT
DTSTAMP:20260424T141504Z
UID:32-813679@breakthroughchurch.life
DTSTART:20260426T180000Z
DTEND:20260426T190000Z
CLASS:PUBLIC
CREATED:20260423T151719
DESCRIPTION:
LAST-MODIFIED:20260423T151719
LOCATION:
SUMMARY:Youth Sunday
URL;VALUE=URI:https://www.breakthroughchurch.life/events/youth-sunday/2026-
 04-26
END:VEVENT
END:VCALENDAR
