BEGIN:VCALENDAR
VERSION:2.0
PRODID:icalendar-ruby
CALSCALE:GREGORIAN
METHOD:PUBLISH
BEGIN:VEVENT
DTSTAMP:20260425T040031Z
UID:38-816944@breakthroughchurch.life
DTSTART:20260425T010000Z
DTEND:20260425T020000Z
CLASS:PUBLIC
CREATED:20260424T171110
DESCRIPTION:This event is welcome to regular attendants who come every Sund
 ay Service &amp\; Wednesday Night Bible Study!
LAST-MODIFIED:20260424T171110
LOCATION:Hartland Christian Camp
SUMMARY:Youth & High School Summer Camp
URL;VALUE=URI:https://www.breakthroughchurch.life/events/youth-high-school-
 summer-camp/2026-04-24
END:VEVENT
END:VCALENDAR
