BEGIN:VCALENDAR
VERSION:2.0
PRODID:icalendar-ruby
CALSCALE:GREGORIAN
METHOD:PUBLISH
BEGIN:VEVENT
DTSTAMP:20260422T014905Z
UID:3-809413@breakthroughchurch.life
DTSTART:20261008T013000Z
DTEND:20261008T030000Z
CLASS:PUBLIC
CREATED:20260421T171508
DESCRIPTION:Every week the youth will meet with Mrs. Paris Perez to learn h
 ow to navigate the lifestlyle of a God centered youngan in a world filled 
 with many\,  many challenges. 
LAST-MODIFIED:20260421T171508
LOCATION:581 E Honolulu St\, Lindsay
SUMMARY:Youth and High School Ministry!
URL;VALUE=URI:https://www.breakthroughchurch.life/events/youth-and-high-sch
 ool-ministry/2026-10-07
ATTACH;FILENAME=ben-white-292680-unsplash.jpg;FMTTYPE=image/jpeg:https://dq
 5pwpg1q8ru0.cloudfront.net/2021/05/05/13/22/13/00d81e25-b290-4dce-ba18-081
 b52bbe992/ben-white-292680-unsplash.jpg
END:VEVENT
END:VCALENDAR
