BEGIN:VCALENDAR
VERSION:2.0
PRODID:icalendar-ruby
CALSCALE:GREGORIAN
METHOD:PUBLISH
BEGIN:VEVENT
DTSTAMP:20260425T194528Z
UID:33-819131@breakthroughchurch.life
DTSTART:20261103T210000Z
DTEND:20261103T220000Z
CLASS:PUBLIC
CREATED:20260425T121240
DESCRIPTION:Presently studying\, Ten Women of the Bible".  We meet in new 
 womens room. 
LAST-MODIFIED:20260425T121240
LOCATION:
SUMMARY:Ladies Bible Study
URL;VALUE=URI:https://www.breakthroughchurch.life/events/ladies-bible-study
 /2026-11-03
END:VEVENT
END:VCALENDAR
