BEGIN:VCALENDAR
VERSION:2.0
PRODID:icalendar-ruby
CALSCALE:GREGORIAN
METHOD:PUBLISH
BEGIN:VEVENT
DTSTAMP:20260425T130004Z
UID:33-817819@breakthroughchurch.life
DTSTART:20261006T200000Z
DTEND:20261006T210000Z
CLASS:PUBLIC
CREATED:20260425T041020
DESCRIPTION:Presently studying\, Ten Women of the Bible".  We meet in new 
 womens room. 
LAST-MODIFIED:20260425T041020
LOCATION:
SUMMARY:Ladies Bible Study
URL;VALUE=URI:https://www.breakthroughchurch.life/events/ladies-bible-study
 /2026-10-06
END:VEVENT
END:VCALENDAR
