BEGIN:VCALENDAR
VERSION:2.0
PRODID:icalendar-ruby
CALSCALE:GREGORIAN
METHOD:PUBLISH
BEGIN:VEVENT
DTSTAMP:20260425T111442Z
UID:33-817818@breakthroughchurch.life
DTSTART:20260929T200000Z
DTEND:20260929T210000Z
CLASS:PUBLIC
CREATED:20260425T041020
DESCRIPTION:Presently studying\, Ten Women of the Bible".  We meet in new 
 womens room. 
LAST-MODIFIED:20260425T041020
LOCATION:
SUMMARY:Ladies Bible Study
URL;VALUE=URI:https://www.breakthroughchurch.life/events/ladies-bible-study
 /2026-09-29
END:VEVENT
END:VCALENDAR
