BEGIN:VCALENDAR
VERSION:2.0
PRODID:icalendar-ruby
CALSCALE:GREGORIAN
METHOD:PUBLISH
BEGIN:VEVENT
DTSTAMP:20260425T012421Z
UID:33-817376@breakthroughchurch.life
DTSTART:20260818T200000Z
DTEND:20260818T210000Z
CLASS:PUBLIC
CREATED:20260424T182225
DESCRIPTION:Presently studying\, Ten Women of the Bible".  We meet in new 
 womens room. 
LAST-MODIFIED:20260424T182225
LOCATION:
SUMMARY:Ladies Bible Study
URL;VALUE=URI:https://www.breakthroughchurch.life/events/ladies-bible-study
 /2026-08-18
END:VEVENT
END:VCALENDAR
