BEGIN:VCALENDAR
VERSION:2.0
PRODID:icalendar-ruby
CALSCALE:GREGORIAN
METHOD:PUBLISH
BEGIN:VEVENT
DTSTAMP:20260424T234923Z
UID:33-816840@breakthroughchurch.life
DTSTART:20260811T200000Z
DTEND:20260811T210000Z
CLASS:PUBLIC
CREATED:20260424T153407
DESCRIPTION:Presently studying\, Ten Women of the Bible".  We meet in new 
 womens room. 
LAST-MODIFIED:20260424T153407
LOCATION:
SUMMARY:Ladies Bible Study
URL;VALUE=URI:https://www.breakthroughchurch.life/events/ladies-bible-study
 /2026-08-11
END:VEVENT
END:VCALENDAR
