BEGIN:VCALENDAR
VERSION:2.0
PRODID:icalendar-ruby
CALSCALE:GREGORIAN
METHOD:PUBLISH
BEGIN:VEVENT
DTSTAMP:20260424T204816Z
UID:33-816401@breakthroughchurch.life
DTSTART:20260526T200000Z
DTEND:20260526T220000Z
CLASS:PUBLIC
CREATED:20260424T124620
DESCRIPTION:Presently studying\, Ten Women of the Bible".  We meet in new 
 womens room. 
LAST-MODIFIED:20260424T124620
LOCATION:
SUMMARY:Ladies Bible Study
URL;VALUE=URI:https://www.breakthroughchurch.life/events/ladies-bible-study
 /2026-05-26
END:VEVENT
END:VCALENDAR
