BEGIN:VCALENDAR
VERSION:2.0
PRODID:icalendar-ruby
CALSCALE:GREGORIAN
METHOD:PUBLISH
BEGIN:VEVENT
DTSTAMP:20260424T141616Z
UID:33-815525@breakthroughchurch.life
DTSTART:20260428T200000Z
DTEND:20260428T220000Z
CLASS:PUBLIC
CREATED:20260424T071044
DESCRIPTION:Presently studying\, Ten Women of the Bible".  We meet in new 
 womens room. 
LAST-MODIFIED:20260424T071044
LOCATION:
SUMMARY:Ladies Bible Study
URL;VALUE=URI:https://www.breakthroughchurch.life/events/ladies-bible-study
 /2026-04-28
END:VEVENT
END:VCALENDAR
